BEGIN:VCALENDAR
PRODID:-//Microsoft Corporation//Outlook 12.0 MIMEDIR//EN
VERSION:2.0
METHOD:PUBLISH
X-MS-OLK-FORCEINSPECTOROPEN:TRUE
BEGIN:VEVENT
CLASS:PUBLIC
DESCRIPTION: \n
DTEND:20260227T21:00:00Z
DTSTAMP:20260424T09:04:15Z
DTSTART:20260226T14:15:00Z
LAST-MODIFIED:20260424T09:04:15Z
LOCATION: HoliMont (NY)[location]
SUMMARY;LANGUAGE=en-us:¦¦¦Snowboard Level II Assessment Prep
UID:20260424T09:04:15Z-15861-755092544
END:VEVENT
END:VCALENDAR
