BEGIN:VCALENDAR
PRODID:-//Microsoft Corporation//Outlook 12.0 MIMEDIR//EN
VERSION:2.0
METHOD:PUBLISH
X-MS-OLK-FORCEINSPECTOROPEN:TRUE
BEGIN:VEVENT
CLASS:PUBLIC
DESCRIPTION: 
DTEND:20260226T21:00:00Z
DTSTAMP:20260424T09:05:49Z
DTSTART:20260226T14:15:00Z
LAST-MODIFIED:20260424T09:05:49Z
LOCATION: HoliMont (NY)[location]
SUMMARY;LANGUAGE=en-us:¦¦¦Telemark Education Clinic - 1 Day
UID:20260424T09:05:49Z-15863-1147853366
END:VEVENT
END:VCALENDAR
