BEGIN:VCALENDAR
PRODID:-//Microsoft Corporation//Outlook 12.0 MIMEDIR//EN
VERSION:2.0
METHOD:PUBLISH
X-MS-OLK-FORCEINSPECTOROPEN:TRUE
BEGIN:VEVENT
CLASS:PUBLIC
DESCRIPTION: 
DTEND:20260224T21:00:00Z
DTSTAMP:20260424T09:16:48Z
DTSTART:20260223T13:45:00Z
LAST-MODIFIED:20260424T09:16:48Z
LOCATION: Jay Peak (VT)[location]
SUMMARY;LANGUAGE=en-us:¦¦¦Snowboard Level I Assessment
UID:20260424T09:16:48Z-16511-2008039693
END:VEVENT
END:VCALENDAR
