BEGIN:VCALENDAR
PRODID:-//Microsoft Corporation//Outlook 12.0 MIMEDIR//EN
VERSION:2.0
METHOD:PUBLISH
X-MS-OLK-FORCEINSPECTOROPEN:TRUE
BEGIN:VEVENT
CLASS:PUBLIC
DESCRIPTION: 
DTEND:20260224T21:00:00Z
DTSTAMP:20260424T09:11:14Z
DTSTART:20260223T13:45:00Z
LAST-MODIFIED:20260424T09:11:14Z
LOCATION: Timberline (WV)[location]
SUMMARY;LANGUAGE=en-us:¦¦¦Alpine Level II Assessment Prep - Skiing
UID:20260424T09:11:14Z-16513-724604816
END:VEVENT
END:VCALENDAR
