BEGIN:VCALENDAR
PRODID:-//Microsoft Corporation//Outlook 12.0 MIMEDIR//EN
VERSION:2.0
METHOD:PUBLISH
X-MS-OLK-FORCEINSPECTOROPEN:TRUE
BEGIN:VEVENT
CLASS:PUBLIC
DESCRIPTION: 
DTEND:20260225T21:00:00Z
DTSTAMP:20260424T09:02:42Z
DTSTART:20260224T13:45:00Z
LAST-MODIFIED:20260424T09:02:42Z
LOCATION: Ski Butternut (MA)[location]
SUMMARY;LANGUAGE=en-us:¦¦¦Alpine Race Clinic
UID:20260424T09:02:42Z-16524-362242220
END:VEVENT
END:VCALENDAR
