BEGIN:VCALENDAR
PRODID:-//Microsoft Corporation//Outlook 12.0 MIMEDIR//EN
VERSION:2.0
METHOD:PUBLISH
X-MS-OLK-FORCEINSPECTOROPEN:TRUE
BEGIN:VEVENT
CLASS:PUBLIC
DESCRIPTION: 
DTEND:20260227T21:00:00Z
DTSTAMP:20260424T09:06:42Z
DTSTART:20260226T13:45:00Z
LAST-MODIFIED:20260424T09:06:42Z
LOCATION: Mad River Glen (VT)[location]
SUMMARY;LANGUAGE=en-us:¦¦¦Telemark Off Piste Trees & Steeps
UID:20260424T09:06:42Z-16724-603390765
END:VEVENT
END:VCALENDAR
