BEGIN:VCALENDAR
PRODID:-//Microsoft Corporation//Outlook 12.0 MIMEDIR//EN
VERSION:2.0
METHOD:PUBLISH
X-MS-OLK-FORCEINSPECTOROPEN:TRUE
BEGIN:VEVENT
CLASS:PUBLIC
DESCRIPTION: IMPORTANT NOTES FOR MONDAY! We will not be on snow Monday, however you may purchase an Epic Pass in advance for Monday, if you arrive early. The Epic Pass includes access to additional discounts on food, lodging, rentals and more. Click here for more information.Our event begins with the dynamic keynote presentation, in the Mount Snow Grand Summit, Somerset Ballroom for all attendees at 7:00pm on Monday, December 1st. All participants in PSIA-AASI clinics at Vail Resorts are required to wear a helmet while sliding or riding. You can read the full Vail Resorts Helmet Policy here: https://easternsnowpros.org/knowledge-base/policies/vail-resort-helmet-policy
DTEND:20251203T21:00:00Z
DTSTAMP:20260423T20:10:50Z
DTSTART:20251201T21:00:00Z
LAST-MODIFIED:20260423T20:10:50Z
LOCATION: Mount Snow (VT)[location]
SUMMARY;LANGUAGE=en-us:¦¦¦Snowsports Management Seminar 2025
UID:20260423T20:10:50Z-17020-1655103982
END:VEVENT
END:VCALENDAR
